BEGIN:VCALENDAR
VERSION:2.0
PRODID:-//Peak Wyld Co. - ECPv6.15.12.2//NONSGML v1.0//EN
CALSCALE:GREGORIAN
METHOD:PUBLISH
X-ORIGINAL-URL:https://peakwyldco.ca
X-WR-CALDESC:Events for Peak Wyld Co.
REFRESH-INTERVAL;VALUE=DURATION:PT1H
X-Robots-Tag:noindex
X-PUBLISHED-TTL:PT1H
BEGIN:VTIMEZONE
TZID:UTC
BEGIN:STANDARD
TZOFFSETFROM:+0000
TZOFFSETTO:+0000
TZNAME:UTC
DTSTART:20260101T000000
END:STANDARD
END:VTIMEZONE
BEGIN:VEVENT
DTSTART;TZID=UTC:20270718T100000
DTEND;TZID=UTC:20270726T170000
DTSTAMP:20260423T225531
CREATED:20260225T195939Z
LAST-MODIFIED:20260226T213135Z
UID:19217-1815904800-1816621200@peakwyldco.ca
SUMMARY:Wyld Women Take The North - 2027 Now Open
DESCRIPTION:Toad River Retreat				\n				\n				\n				\n					MAR. 6-9\, 2020
URL:https://peakwyldco.ca/event/wyld-women-take-the-north-2027-now-open/
CATEGORIES:Backpacking,Northern Rockies
ATTACH;FMTTYPE=image/jpeg:https://peakwyldco.ca/wp-content/uploads/2019/11/cropped-Wild-Women-Take-The-North-1-1.jpg
END:VEVENT
END:VCALENDAR